BEGIN:VCALENDAR
VERSION:2.0
PRODID:-//La ficelle - ECPv6.15.20//NONSGML v1.0//EN
CALSCALE:GREGORIAN
METHOD:PUBLISH
X-WR-CALNAME:La ficelle
X-ORIGINAL-URL:https://la-ficelle.fr
X-WR-CALDESC:Évènements pour La ficelle
REFRESH-INTERVAL;VALUE=DURATION:PT1H
X-Robots-Tag:noindex
X-PUBLISHED-TTL:PT1H
BEGIN:VTIMEZONE
TZID:Europe/Paris
BEGIN:DAYLIGHT
TZOFFSETFROM:+0100
TZOFFSETTO:+0200
TZNAME:CEST
DTSTART:20230326T010000
END:DAYLIGHT
BEGIN:STANDARD
TZOFFSETFROM:+0200
TZOFFSETTO:+0100
TZNAME:CET
DTSTART:20231029T010000
END:STANDARD
BEGIN:DAYLIGHT
TZOFFSETFROM:+0100
TZOFFSETTO:+0200
TZNAME:CEST
DTSTART:20240331T010000
END:DAYLIGHT
BEGIN:STANDARD
TZOFFSETFROM:+0200
TZOFFSETTO:+0100
TZNAME:CET
DTSTART:20241027T010000
END:STANDARD
BEGIN:DAYLIGHT
TZOFFSETFROM:+0100
TZOFFSETTO:+0200
TZNAME:CEST
DTSTART:20250330T010000
END:DAYLIGHT
BEGIN:STANDARD
TZOFFSETFROM:+0200
TZOFFSETTO:+0100
TZNAME:CET
DTSTART:20251026T010000
END:STANDARD
BEGIN:DAYLIGHT
TZOFFSETFROM:+0100
TZOFFSETTO:+0200
TZNAME:CEST
DTSTART:20260329T010000
END:DAYLIGHT
BEGIN:STANDARD
TZOFFSETFROM:+0200
TZOFFSETTO:+0100
TZNAME:CET
DTSTART:20261025T010000
END:STANDARD
END:VTIMEZONE
BEGIN:VEVENT
DTSTART;TZID=Europe/Paris:20251220T160000
DTEND;TZID=Europe/Paris:20251220T193000
DTSTAMP:20260425T174157
CREATED:20251121T205052Z
LAST-MODIFIED:20251121T205714Z
UID:592-1766246400-1766259000@la-ficelle.fr
SUMMARY:Déambulation de Noël
DESCRIPTION:Le goûter des enfants auria lieu à partir de 16H\, et sera suivi de la traditionnelle déambulation à 17H30.\nÀ partir de 18H30\, sera joué le spectacle « Le Soir des Ombres » par la Compagnie Chamane (à partir de 10 ans\, cliquez ici pour en savoir plus)
URL:https://la-ficelle.fr/event/deambulation-de-noel-2/
LOCATION:Mairie
END:VEVENT
BEGIN:VEVENT
DTSTART;VALUE=DATE:20251206
DTEND;VALUE=DATE:20251207
DTSTAMP:20260425T174157
CREATED:20251121T205229Z
LAST-MODIFIED:20251205T181445Z
UID:594-1764979200-1765065599@la-ficelle.fr
SUMMARY:Téléthon
DESCRIPTION:À la Mairie à partir de 10H. Restauration à partir de 12H\, ventes au profit du Téléthon.\nCourse à pied à partir de 9H30.
URL:https://la-ficelle.fr/event/telethon/
END:VEVENT
BEGIN:VEVENT
DTSTART;VALUE=DATE:20250720
DTEND;VALUE=DATE:20250721
DTSTAMP:20260425T174157
CREATED:20250508T072156Z
LAST-MODIFIED:20250508T072156Z
UID:385-1752969600-1753055999@la-ficelle.fr
SUMMARY:Brocante de l'ASEFCH
DESCRIPTION:La brocante de l’Association pour la Sauvegarde de l’Église de Favières et la Chapelle du Hamelet.
URL:https://la-ficelle.fr/event/brocante-de-lasefch/
LOCATION:Impasse des Avocettes (ancien stade)
CATEGORIES:Manifestations
END:VEVENT
BEGIN:VEVENT
DTSTART;VALUE=DATE:20250713
DTEND;VALUE=DATE:20250714
DTSTAMP:20260425T174157
CREATED:20250508T072704Z
LAST-MODIFIED:20250508T072751Z
UID:394-1752364800-1752451199@la-ficelle.fr
SUMMARY:Repas dansant et feu d'artifice du 13 juillet
DESCRIPTION:
URL:https://la-ficelle.fr/event/repas-dansant-et-feu-dartifice-du-13-juillet/
LOCATION:Mairie
CATEGORIES:Manifestations
END:VEVENT
BEGIN:VEVENT
DTSTART;VALUE=DATE:20250607
DTEND;VALUE=DATE:20250608
DTSTAMP:20260425T174157
CREATED:20250508T072551Z
LAST-MODIFIED:20250508T072551Z
UID:392-1749254400-1749340799@la-ficelle.fr
SUMMARY:Vélomaritime de la Baie de Somme
DESCRIPTION:
URL:https://la-ficelle.fr/event/velomaritime-de-la-baie-de-somme/
LOCATION:Mairie
CATEGORIES:Manifestations
END:VEVENT
BEGIN:VEVENT
DTSTART;VALUE=DATE:20250601
DTEND;VALUE=DATE:20250602
DTSTAMP:20260425T174157
CREATED:20250508T072501Z
LAST-MODIFIED:20250508T072501Z
UID:390-1748736000-1748822399@la-ficelle.fr
SUMMARY:Exposition à l'Église Saint-Jean-Baptiste
DESCRIPTION:à partir du 1er juin
URL:https://la-ficelle.fr/event/exposition-a-leglise-saint-jean-baptiste/
LOCATION:Églse Saint-Jean-Baptiste
CATEGORIES:Manifestations
END:VEVENT
BEGIN:VEVENT
DTSTART;TZID=Europe/Paris:20250508T120000
DTEND;TZID=Europe/Paris:20250508T130000
DTSTAMP:20260425T174157
CREATED:20250508T072257Z
LAST-MODIFIED:20250508T072833Z
UID:388-1746705600-1746709200@la-ficelle.fr
SUMMARY:Cérémonie du 8 mai
DESCRIPTION:
URL:https://la-ficelle.fr/event/ceremonie-du-8-mai/
LOCATION:Mairie
END:VEVENT
BEGIN:VEVENT
DTSTART;VALUE=DATE:20250419
DTEND;VALUE=DATE:20250420
DTSTAMP:20260425T174157
CREATED:20250317T200019Z
LAST-MODIFIED:20250317T200019Z
UID:266-1745020800-1745107199@la-ficelle.fr
SUMMARY:Chasse aux oeufs
DESCRIPTION:Les cloches sonnent ! La chasse aux oeufs est ouverte pour les enfants du village. \nOrganisé par la Mairie (inscription obligatoire)
URL:https://la-ficelle.fr/event/chasse-aux-oeufs/
END:VEVENT
BEGIN:VEVENT
DTSTART;VALUE=DATE:20250327
DTEND;VALUE=DATE:20250328
DTSTAMP:20260425T174157
CREATED:20250317T200100Z
LAST-MODIFIED:20250317T200100Z
UID:269-1743033600-1743119999@la-ficelle.fr
SUMMARY:Repas des aînés
DESCRIPTION:Organisé par la Mairie (inscription obligatoire)
URL:https://la-ficelle.fr/event/repas-des-aines/
END:VEVENT
BEGIN:VEVENT
DTSTART;TZID=Europe/Paris:20250315T090000
DTEND;TZID=Europe/Paris:20250315T120000
DTSTAMP:20260425T174157
CREATED:20250222T222000Z
LAST-MODIFIED:20250304T193235Z
UID:239-1742029200-1742040000@la-ficelle.fr
SUMMARY:Ramassage Hauts-de-France propres
DESCRIPTION:RDV devant la mairie à 9H. \nOrganisé par la Mairie\, à contacter pour plus d’informations. \nhttps://www.hautsdefrance-propres.fr/Zone-rurale
URL:https://la-ficelle.fr/event/ramassage-hauts-de-france-propres/
LOCATION:Mairie
CATEGORIES:Manifestations
END:VEVENT
BEGIN:VEVENT
DTSTART;TZID=Europe/Paris:20250308T110000
DTEND;TZID=Europe/Paris:20250308T120000
DTSTAMP:20260425T174157
CREATED:20250214T221328Z
LAST-MODIFIED:20250225T195505Z
UID:227-1741431600-1741435200@la-ficelle.fr
SUMMARY:Messe en l'église Saint-Jean-Baptiste
DESCRIPTION:
URL:https://la-ficelle.fr/event/messe-en-leglise-saint-jean-baptiste/
LOCATION:Églse Saint-Jean-Baptiste
END:VEVENT
BEGIN:VEVENT
DTSTART;TZID=Europe/Paris:20250205T190000
DTEND;TZID=Europe/Paris:20250205T210000
DTSTAMP:20260425T174157
CREATED:20250131T160000Z
LAST-MODIFIED:20250131T161236Z
UID:119-1738782000-1738789200@la-ficelle.fr
SUMMARY:Conseil Municipal Février 2025
DESCRIPTION:(report de la séance du 29 janvier 2025 pour faute de quorum)
URL:https://la-ficelle.fr/event/conseil-municipal-fevrier-2025/
LOCATION:Mairie\, Salle du Conseil
CATEGORIES:Vie Municipale
END:VEVENT
BEGIN:VEVENT
DTSTART;TZID=Europe/Paris:20250129T193000
DTEND;TZID=Europe/Paris:20250129T210000
DTSTAMP:20260425T174157
CREATED:20250118T060022Z
LAST-MODIFIED:20250124T181819Z
UID:96-1738179000-1738184400@la-ficelle.fr
SUMMARY:Conseil Municipal
DESCRIPTION:
URL:https://la-ficelle.fr/event/conseil-municipal/
LOCATION:Mairie\, Salle du Conseil
CATEGORIES:Vie Municipale
END:VEVENT
BEGIN:VEVENT
DTSTART;TZID=Europe/Paris:20250126T150000
DTEND;TZID=Europe/Paris:20250126T160000
DTSTAMP:20260425T174157
CREATED:20250111T140056Z
LAST-MODIFIED:20250119T142416Z
UID:76-1737903600-1737907200@la-ficelle.fr
SUMMARY:Voeux de M. le Maire et galette des rois
DESCRIPTION:
URL:https://la-ficelle.fr/event/voeux-de-m-le-maire/
LOCATION:Salle du Jardin\, Impasse des Avocettes
CATEGORIES:Manifestations
END:VEVENT
BEGIN:VEVENT
DTSTART;TZID=Europe/Paris:20241221T170000
DTEND;TZID=Europe/Paris:20241221T193000
DTSTAMP:20260425T174157
CREATED:20241209T180038Z
LAST-MODIFIED:20241218T214356Z
UID:34-1734800400-1734809400@la-ficelle.fr
SUMMARY:Déambulation de Noël
DESCRIPTION:La déambulation illuminée dans Favières\, suivie d’un goûter et de la distribution des jouets. \nDépart depuis la Chapelle du Hamelet à 17H00\, arrivée vers 18H30 sur le parking de l’Église Saint Jean-Baptiste. Goûter et distribution des cadeaux dans la salle polyvalente de la Mairie.
URL:https://la-ficelle.fr/event/deambulation-de-noel/
CATEGORIES:Manifestations
END:VEVENT
END:VCALENDAR